BEGIN:VCALENDAR
PRODID:-//Pixl8//Eventfolio//EN
VERSION:2.0
X-WR-TIMEZONE:America/Los_Angeles
CALSCALE:GREGORIAN
METHOD:PUBLISH
CLASS:PUBLIC
BEGIN:VTIMEZONE
TZID:America/Los_Angeles
LAST-MODIFIED:20260306T231828Z
TZURL:https://www.tzurl.org/zoneinfo-outlook/America/Los_Angeles
X-LIC-LOCATION:America/Los_Angeles
BEGIN:DAYLIGHT
TZNAME:PDT
TZOFFSETFROM:-0800
TZOFFSETTO:-0700
DTSTART:19700308T020000
RRULE:FREQ=YEARLY;BYMONTH=3;BYDAY=2SU
END:DAYLIGHT
BEGIN:STANDARD
TZNAME:PST
TZOFFSETFROM:-0700
TZOFFSETTO:-0800
DTSTART:19701101T020000
RRULE:FREQ=YEARLY;BYMONTH=11;BYDAY=1SU
END:STANDARD
END:VTIMEZONE
BEGIN:VEVENT
DTSTART;TZID=America/Los_Angeles:20260624T100000
DTEND;TZID=America/Los_Angeles:20260624T110000
DTSTAMP:20260419T214346Z
UID:{51512A24-3280-49FD-B49DAA81BBE21CF2}
LOCATION:
SUMMARY:CFA Program 2027: Curriculum Updates & Career Outlook
DESCRIPTION:If you’re planning to pursue the CFA program in 2027, you won’t want to miss this exclusive look at how the program is evolving to stay ahead of industry trends, featuring a guest speaker from CFA Institute.\n
 \n
 Event details: https://cfa-sf.org/events-content-library/events/cfa-program-2027-curriculum-updates-career-outlook-june-2026.html
PRIORITY:1
END:VEVENT
END:VCALENDAR