BEGIN:VCALENDAR
PRODID:-//Pixl8//Eventfolio//EN
VERSION:2.0
X-WR-TIMEZONE:America/Los_Angeles
CALSCALE:GREGORIAN
METHOD:PUBLISH
CLASS:PUBLIC
BEGIN:VTIMEZONE
TZID:America/Los_Angeles
LAST-MODIFIED:20260306T231828Z
TZURL:https://www.tzurl.org/zoneinfo-outlook/America/Los_Angeles
X-LIC-LOCATION:America/Los_Angeles
BEGIN:DAYLIGHT
TZNAME:PDT
TZOFFSETFROM:-0800
TZOFFSETTO:-0700
DTSTART:19700308T020000
RRULE:FREQ=YEARLY;BYMONTH=3;BYDAY=2SU
END:DAYLIGHT
BEGIN:STANDARD
TZNAME:PST
TZOFFSETFROM:-0700
TZOFFSETTO:-0800
DTSTART:19701101T020000
RRULE:FREQ=YEARLY;BYMONTH=11;BYDAY=1SU
END:STANDARD
END:VTIMEZONE
BEGIN:VEVENT
DTSTART;TZID=America/Los_Angeles:20260506T163000
DTEND;TZID=America/Los_Angeles:20260506T193000
DTSTAMP:20260422T095750Z
UID:{6DFE10CB-9D27-421D-826DDD245CCB2574}
LOCATION:Clay St. & Drumm St.
SUMMARY:Market Volatility Playbook: Trading Strategies for Uncertain Times
DESCRIPTION:Explore how investment professionals are adapting trading strategies to navigate market volatility, manage risk, and identify opportunities in uncertain conditions.\n
 \n
 Event details: https://cfa-sf.org/events-content-library/events/market-volatility-playbook-trading-strategies-for-uncertain-times.html
PRIORITY:1
END:VEVENT
END:VCALENDAR